BEGIN:VCALENDAR
VERSION:2.0
PRODID:-//hacksw/handcal//NONSGML v1.0//EN
BEGIN:VEVENT
SUMMARY:FINALE RETOUR PRO A DAMES 2026  - METZ TT vs ASRTT ETIVAL
UID:b9642ac4-be62-48f5-8be5-64ba67ee0ccd
DTSTART:20260519T173000Z
DTEND:20260519T214500Z
LOCATION:Localisation   
CATEGORIES:Sportif
STATUS:
DESCRIPTION:<p>Finale retour du Championnat de France de Pro A Dames
 2026</p>
 
 <p>Reservez vos places ici : <a
 href="https://www.metz-tt.com/en-savoir-plus/billetterie-metz-tt-131275">https://www.metz-tt.com/en-savoir-plus/billetterie-metz-tt-131275</a></p>
 
 <p> </p>
URL;VALUE=URI:https://www.metz-tt.com/evenements/2026/05/19/finale-retour-pro-a-dames-2026-metz-tt-vs-asrtt-etival-2444511
END:VEVENT
END:VCALENDAR
